BEGIN:VCALENDAR
VERSION:2.0
PRODID:-//Whitefish Golf Club - Pequot Lakes, MN - ECPv6.15.20//NONSGML v1.0//EN
CALSCALE:GREGORIAN
METHOD:PUBLISH
X-WR-CALNAME:Whitefish Golf Club - Pequot Lakes, MN
X-ORIGINAL-URL:https://whitefishgolf.com
X-WR-CALDESC:Events for Whitefish Golf Club - Pequot Lakes, MN
REFRESH-INTERVAL;VALUE=DURATION:PT1H
X-Robots-Tag:noindex
X-PUBLISHED-TTL:PT1H
BEGIN:VTIMEZONE
TZID:UTC
BEGIN:STANDARD
TZOFFSETFROM:+0000
TZOFFSETTO:+0000
TZNAME:UTC
DTSTART:20250101T000000
END:STANDARD
END:VTIMEZONE
BEGIN:VEVENT
DTSTART;TZID=UTC:20260712T000000
DTEND;TZID=UTC:20260712T235959
DTSTAMP:20260422T153608
CREATED:20260224T153648Z
LAST-MODIFIED:20260331T210257Z
UID:3311-1783814400-1783900799@whitefishgolf.com
SUMMARY:Lions Club RMH Tournament
DESCRIPTION:4 Player Scramble – 8AM and 2PM Shotgun Starts
URL:https://whitefishgolf.com/event/lions-club-rmh-tournament/
CATEGORIES:Tournaments
ATTACH;FMTTYPE=image/png:https://whitefishgolf.com/wp-content/uploads/2026/02/Ronald-McDonald-Charity-Scramble.png
END:VEVENT
END:VCALENDAR