BEGIN:VCALENDAR
VERSION:2.0
PRODID:-//Whitefish Golf Club - Pequot Lakes, MN - ECPv6.15.20//NONSGML v1.0//EN
CALSCALE:GREGORIAN
METHOD:PUBLISH
X-WR-CALNAME:Whitefish Golf Club - Pequot Lakes, MN
X-ORIGINAL-URL:https://whitefishgolf.com
X-WR-CALDESC:Events for Whitefish Golf Club - Pequot Lakes, MN
REFRESH-INTERVAL;VALUE=DURATION:PT1H
X-Robots-Tag:noindex
X-PUBLISHED-TTL:PT1H
BEGIN:VTIMEZONE
TZID:UTC
BEGIN:STANDARD
TZOFFSETFROM:+0000
TZOFFSETTO:+0000
TZNAME:UTC
DTSTART:20240101T000000
END:STANDARD
END:VTIMEZONE
BEGIN:VEVENT
DTSTART;TZID=UTC:20251005T000000
DTEND;TZID=UTC:20251005T235959
DTSTAMP:20260425T214245
CREATED:20250219T181311Z
LAST-MODIFIED:20250401T144244Z
UID:3178-1759622400-1759708799@whitefishgolf.com
SUMMARY:Oktoberfest
DESCRIPTION:1pm Shotgun\, 4 Person Scramble\, Appetizers and Beer Included
URL:https://whitefishgolf.com/event/oktoberfest/
CATEGORIES:Tournaments
ATTACH;FMTTYPE=image/jpeg:https://whitefishgolf.com/wp-content/uploads/2025/02/Oktoberfest-Poster-scaled.jpg
END:VEVENT
BEGIN:VEVENT
DTSTART;TZID=UTC:20251018T000000
DTEND;TZID=UTC:20251018T235959
DTSTAMP:20260425T214245
CREATED:20250219T181459Z
LAST-MODIFIED:20250401T165023Z
UID:3180-1760745600-1760831999@whitefishgolf.com
SUMMARY:Wicked Whitefish Open
DESCRIPTION:11am Shotgun\, 4 Person Scramble\, Lunch Included
URL:https://whitefishgolf.com/event/wicked-whitefish-open/
CATEGORIES:Tournaments
ATTACH;FMTTYPE=image/jpeg:https://whitefishgolf.com/wp-content/uploads/2025/02/Wicked-Whitefish-Open-Poster-scaled.jpg
END:VEVENT
END:VCALENDAR