BEGIN:VCALENDAR
VERSION:2.0
PRODID:-//Whitefish Golf Club - Pequot Lakes, MN - ECPv6.15.20//NONSGML v1.0//EN
CALSCALE:GREGORIAN
METHOD:PUBLISH
X-WR-CALNAME:Whitefish Golf Club - Pequot Lakes, MN
X-ORIGINAL-URL:https://whitefishgolf.com
X-WR-CALDESC:Events for Whitefish Golf Club - Pequot Lakes, MN
REFRESH-INTERVAL;VALUE=DURATION:PT1H
X-Robots-Tag:noindex
X-PUBLISHED-TTL:PT1H
BEGIN:VTIMEZONE
TZID:UTC
BEGIN:STANDARD
TZOFFSETFROM:+0000
TZOFFSETTO:+0000
TZNAME:UTC
DTSTART:20250101T000000
END:STANDARD
END:VTIMEZONE
BEGIN:VEVENT
DTSTART;TZID=UTC:20260517T000000
DTEND;TZID=UTC:20260517T235959
DTSTAMP:20260422T112110
CREATED:20260224T151232Z
LAST-MODIFIED:20260305T195415Z
UID:3306-1778976000-1779062399@whitefishgolf.com
SUMMARY:Bloody Open
DESCRIPTION:4 Player Scramble – 2 Shotgun Starts\, 8am & 2pm
URL:https://whitefishgolf.com/event/bloody-open-2/
CATEGORIES:Tournaments
ATTACH;FMTTYPE=image/png:https://whitefishgolf.com/wp-content/uploads/2026/02/Bloody-Open-Poster-2.png
END:VEVENT
BEGIN:VEVENT
DTSTART;TZID=UTC:20260530T000000
DTEND;TZID=UTC:20260530T235959
DTSTAMP:20260422T112110
CREATED:20260224T151649Z
LAST-MODIFIED:20260305T200631Z
UID:3308-1780099200-1780185599@whitefishgolf.com
SUMMARY:Stars & Stripes
DESCRIPTION:4 Player Scramble – 12:00pm Shotgun Start
URL:https://whitefishgolf.com/event/stars-stripes/
CATEGORIES:Tournaments
ATTACH;FMTTYPE=image/png:https://whitefishgolf.com/wp-content/uploads/2026/03/Stars-and-Stripes-Poster-2-1.png
END:VEVENT
END:VCALENDAR